BEGIN:VCALENDAR
VERSION:2.0
PRODID:-//Communes du commerce équitable - ECPv6.15.20//NONSGML v1.0//EN
CALSCALE:GREGORIAN
METHOD:PUBLISH
X-WR-CALNAME:Communes du commerce équitable
X-ORIGINAL-URL:https://www.cdce.be
X-WR-CALDESC:Évènements pour Communes du commerce équitable
REFRESH-INTERVAL;VALUE=DURATION:PT1H
X-Robots-Tag:noindex
X-PUBLISHED-TTL:PT1H
BEGIN:VTIMEZONE
TZID:Europe/Brussels
BEGIN:DAYLIGHT
TZOFFSETFROM:+0100
TZOFFSETTO:+0200
TZNAME:CEST
DTSTART:20250330T010000
END:DAYLIGHT
BEGIN:STANDARD
TZOFFSETFROM:+0200
TZOFFSETTO:+0100
TZNAME:CET
DTSTART:20251026T010000
END:STANDARD
BEGIN:DAYLIGHT
TZOFFSETFROM:+0100
TZOFFSETTO:+0200
TZNAME:CEST
DTSTART:20260329T010000
END:DAYLIGHT
BEGIN:STANDARD
TZOFFSETFROM:+0200
TZOFFSETTO:+0100
TZNAME:CET
DTSTART:20261025T010000
END:STANDARD
BEGIN:DAYLIGHT
TZOFFSETFROM:+0100
TZOFFSETTO:+0200
TZNAME:CEST
DTSTART:20270328T010000
END:DAYLIGHT
BEGIN:STANDARD
TZOFFSETFROM:+0200
TZOFFSETTO:+0100
TZNAME:CET
DTSTART:20271031T010000
END:STANDARD
END:VTIMEZONE
BEGIN:VEVENT
DTSTART;TZID=Europe/Brussels:20260424T120000
DTEND;TZID=Europe/Brussels:20260424T170000
DTSTAMP:20260422T083342
CREATED:20260226T093758Z
LAST-MODIFIED:20260226T093759Z
UID:10000399-1777032000-1777050000@www.cdce.be
SUMMARY:Rana Plaza Never Again - Action
DESCRIPTION:13 ans après l’effondrement du Rana Plaza\, les travailleur·euses du Bangladesh continuent d’être massivement exploité·es et de travailler au péril de leur santé : bâtiments insalubres\, températures extrêmes\, risques d’incendies\, etc. \n\n\n\nLe 24 avril\, rejoignez-nous pour manifester notre soutien aux travailleur·euses de l’industrie de la mode du Bangladesh et rappeler aux marques qu’elles doivent assumer leurs responsabilités. \n\n\n\nAchAct 𝐚𝐯𝐞𝐜 la Schone Kleren Campagne 𝐞𝐭 𝐝𝐞 𝐧𝐨𝐦𝐛𝐫𝐞𝐮𝐬𝐞𝐬 𝐨𝐫𝐠𝐚𝐧𝐢𝐬𝐚𝐭𝐢𝐨𝐧𝐬\, 𝐬𝐲𝐧𝐝𝐢𝐜𝐚𝐭𝐬 𝐞𝐭 𝐚𝐜𝐭𝐢𝐯𝐢𝐬𝐭𝐞𝐬\, commémorent 𝐥𝐞𝐬 𝟏𝟏𝟑𝟖 𝐯𝐢𝐜𝐭𝐢𝐦𝐞𝐬 𝐝𝐞 𝐥’𝐞𝐟𝐟𝐨𝐧𝐝𝐫𝐞𝐦𝐞𝐧𝐭 𝐝𝐮 𝐑𝐚𝐧𝐚 𝐏𝐥𝐚𝐳𝐚.
URL:https://www.cdce.be/event/rana-plaza-never-again-action/
LOCATION:Place de la Monnaie · 1000 Bruxelles\, Place de la Monnaie\, Bruxelles\, 1000\, Belgium
ATTACH;FMTTYPE=image/png:https://www.cdce.be/wp-content/uploads/2026/02/Rana-Plaza-banner-1200x800-1.png
END:VEVENT
BEGIN:VEVENT
DTSTART;TZID=Europe/Brussels:20260427T000000
DTEND;TZID=Europe/Brussels:20260501T235959
DTSTAMP:20260422T083342
CREATED:20260316T094914Z
LAST-MODIFIED:20260316T094915Z
UID:10000403-1777248000-1777679999@www.cdce.be
SUMMARY:Stage de création de podcasts "Le son qui dérange !"
DESCRIPTION:Oxfam-Magasins du monde organise pour la quatrième année consécutive un stage de création de podcasts à destination des jeunes de 15 à 20 ans (élèves du secondaire uniquement) : « Le son qui dérange ! » 🎧 \n\n\n\n👉 Thème 2026 : Le textileComment sont produits nos vêtements ? D’où viennent-ils ? Pourquoi les marques produisent-elles autant de fringues ? En Belgique\, comment gère-t-on les invendus ? Comment consommer mieux ?Si toi aussi tu te poses plein de questions sur tes vêtements\, ce stage est fait pour toi ! \n\n\n\n📍 Infos pratiques :🏡 Hébergement : Auberge Mozaïk🎙️ Ateliers : Mundo Louvain-la-Neuve🥗 GRATUIT : logement\, repas\, activités\, transports… tout est pris en charge ! \n\n\n\n✅ Comment inscrire un·e jeune ?Il suffit de remplir le formulaire d’inscription \n\n\n\n🎧 Pour découvrir les précédentes éditions :Ce stage est organisé en partenariat avec Comme un Lundi (👉 commeunlundi.be).Les podcasts des éditions passées sont disponibles ici : 🎶 :Le son qui dérange!
URL:https://www.cdce.be/event/stage-de-creation-de-podcasts-le-son-qui-derange/
ATTACH;FMTTYPE=image/png:https://www.cdce.be/wp-content/uploads/2026/03/Flyers-LSQD-2026.png
END:VEVENT
BEGIN:VEVENT
DTSTART;TZID=Europe/Brussels:20260509T090000
DTEND;TZID=Europe/Brussels:20260509T130000
DTSTAMP:20260422T083342
CREATED:20260415T093332Z
LAST-MODIFIED:20260415T093333Z
UID:10000404-1778317200-1778331600@www.cdce.be
SUMMARY:Soignies - Le commerce équitable s'invite en ville
DESCRIPTION:À l’occasion de la Journée mondiale du commerce équitable\, la Ville de Soignies vous donne rendez-vous le samedi 9 mai 2026\, de 9h à 13h\, sur la place Van Zeeland\, pour une matinée conviviale\, gourmande et engagée. \n\n\n\nPlongez au cœur d’un véritable village du commerce équitable réunissant producteurs locaux\, artisans\, associations et partenaires engagés de la région. Venez découvrir leurs savoir-faire\, échanger avec eux et savourer une sélection de produits locaux et équitables. \n\n\n\nAu programme : café équitable offert\, dégustations\, animations ludiques et pédagogiques pour petits et grands\, ainsi qu’un mur des engagements citoyens et un quiz interactif. \n\n\n\nÀ 11h\, ne manquez pas le défilé de mode éthique\, en présence de Miss Soignies Haute-Senne et de ses dauphines\, suivi d’un moment officiel mettant à l’honneur l’engagement de la Ville pour une consommation plus responsable. \n\n\n\nUne animation musicale à l’accordéon rythmera également la matinée. \n\n\n\nUn rendez-vous festif et inspirant pour célébrer ensemble un commerce plus juste\, durable et solidaire ! \n\n\n\n \n\n\n\n\n\nHoraire : 9h00 à 13h00 \n\n\n\nLieu : place Van Zeeland   \n\n\n\nObjectifs : Sensibiliser à une consommation responsable\, durable et solidaire \n\n\n\nDéroulé : \n\n\n\n09h00 – 13h : animations en continu \n\n\n\n11h00 : temps officiel avec les autorités et défilé de mode éthique\, présence d’un accordéoniste \n\n\n\n13h00 : clôture \n\n\n\n\nBrasserie coopérative – Bière à fermeCoopérative micro-brasserie.📍 Enghien \n\n\n\nBrasserie de l’Oubéwé – Bières artisanalesBrasserie artisanale proposant notamment une bière triple de caractère et d’autres créations brassées selon les méthodes traditionnelles.📍 Tubize \n\n\n\nBrasserie de Soignies – Brasserie HoppyMicrobrasserie artisanale produisant des bières locales variées (blondes\, ambrées\, fruitées).📍 Neufvilles (Soignies) \n\n\n\nCollectif Climat – SoigniesStand d’information sur les enjeux climatiques et les actions locales.📍 Soignies \n\n\n\nConseil de Politique alimentaire – Hainaut DéveloppementStand d’information.📍 Mons \n\n\n\nEpicerie 300 Grammes – Magasin bio itinérantÉpicerie mobile proposant des produits bio et locaux (vrac\, épicerie sèche\, produits durables).📍 Enghien \n\n\n\nEn toute simplicité – Plats préparés en bocauxArtisan proposant la vente de plats stérilisés en bocaux « zéro déchet\, longue conservation\, facile à réchauffer ».📍 Braine-le-Comte \n\n\n\nFerme des 14 Bonniers – Ferme laitière traditionnelle et magasin à la fermeProduction et transformation de produits laitiers ainsi que de viande de porc et de veau.📍 Braine-le-Comte \n\n\n\nFromagerie du Centre Reine Fabiola – Fromages artisanauxProduction de fromages artisanaux dans une démarche sociale et locale\, valorisant le savoir-faire et l’inclusion.📍 Neufvilles \n\n\n\nGauthier De Geest – Tourneur sur boisArtisan tourneur sur bois proposant des créations en bois tourné\, réalisées de manière artisanale.📍 Casteau \n\n\n\nGlaces Shcoups – Glaces artisanalesFabrication de glaces artisanales aux saveurs originales\, réalisées à partir d’ingrédients de qualité.📍 Braine-le-Comte \n\n\n\nLa Ferme d’Horruette – FraisesProduction locale de fraises fraîches de saison\, cultivées en circuit court.📍 Horrues (Soignies) \n\n\n\nLa Pazzia 2.0 – Pizzas au feu de boisPizzas artisanales cuites au feu de bois\, préparées avec des ingrédients de qualité.📍 Soignies \n\n\n\nLe Frobelle Tout Court – Fromagerie artisanaleArtisan local proposant des fromages affinés au lait cru de vache📍 Manage \n\n\n\nLe Maquis – Tiers-lieuStand d’information et librairie.📍 Soignies \n\n\n\nLe miel de mes ruches – Miel artisanalProduction de miel local et produits dérivés issus de l’apiculture artisanale.📍 Casteau \n\n\n\nL’envol – Ressourcerie solidaire de SoigniesVente de vélos reconditionnés ainsi que des informations sur les activités de L’envol et de ses services.📍 Soignies \n\n\n\nLes fromages de Christel – Élevage de chèvres et brebis LacauneFabrication de fromages de chèvre frais au lait cru.📍 Naast (Soignies) \n\n\n\nL’Occasion Unique – Céramique artisanaleCréations de céramique artisanale uniques\, façonnées à la main.📍 Braine-le-Comte \n\n\n\nMich et ses Délices – Patisserie artisanaleProduction artisanale de macarons et de pâtisseries sans arômes artificiels📍 La Louvière \n\n\n\nNaturalife – PépinièrePépinière proposant plantes\, arbustes et produits liés au jardinage durable.📍 Horrues (Soignies) \n\n\n\nOxfam – Magasin du MondeVaste choix de produits alimentaires\, de cosmétiques\, de décorations\, de bijoux et de vêtements de seconde main.📍 Soignies \n\n\n\nSekayi – Cuisine africaine\, européenne et fusionTraiteur proposant une cuisine savoureuse mêlant influences africaines et européennes.📍 Hennuyères \n\n\n\nSois Bio et t’es toi – Maraicher bioProduction locale et biologique de fruits et légumes📍 Chaussée-Notre-Dame-Louvignies (Soignies)
URL:https://www.cdce.be/event/soignies-le-commerce-equitable-sinvite-en-ville/
LOCATION:Soignies Place van Zeeland\, Place van Zeeland\, Soignies
ATTACH;FMTTYPE=image/png:https://www.cdce.be/wp-content/uploads/2026/04/affiche-A4-marche-9-mai-2026_DEF-1.png
END:VEVENT
BEGIN:VEVENT
DTSTART;TZID=Europe/Brussels:20260518T110000
DTEND;TZID=Europe/Brussels:20260518T120000
DTSTAMP:20260422T083342
CREATED:20260120T135650Z
LAST-MODIFIED:20260120T135651Z
UID:10000391-1779102000-1779105600@www.cdce.be
SUMMARY:Le rendez-vous des communes engagées pour le commerce équitable – Webinaire « Les fondamentaux d'un comité de pilotage »
DESCRIPTION:Et si votre commune prenait la parole ?  \n\n\n\nCette année\, la coordination CDCE ouvrira chaque mois un temps et en espace en ligne pour partager vos expériences\, vos initiatives et vos idées. Chaque rendez-vous traitera d’un sujet général (le site CDCE\, les outils\, le comité de pilotage\, la semaine du commerce équitable…) que nous présenterions rapidement pour ensuite laisser place à vos interventions et vos questions. \n\n\n\n\nODJ du 18 mai : celui-ci peut changer en fonction des actualités/opportunités du moment.\n\n\n\n\nLes fondamentaux d’un comité de pilotage (participation à la construction d’une charte)\n\n\n\n\n\nTemps questions-réponses sur la thématique et autres sujets que vous souhaitez aborder\n\n\n\n\n\n\nPour participer c’est ici\n\n\n\n\nQue vous soyez une commune engagée\, en chemin ou partenaire du commerce équitable\, venez échanger\, témoigner et vous inspirer aux côtés d’autres territoires. Ensemble\, nous aimerions faire circuler les bonnes pratiques et donner encore plus de visibilité aux actions locales qui font la différence. \n\n\n\nLe principe : ouverture par la coordination CDCE d’une réunion Teams un lundi par mois entre 11h et 12h.  \n\n\n\nRejoignez-nous et contribuez à faire vivre le commerce équitable dans nos communes !
URL:https://www.cdce.be/event/le-rendez-vous-des-communes-engagees-pour-le-commerce-equitable-webinaire-les-fondamentaux-dun-comite-de-pilotage/
ATTACH;FMTTYPE=image/png:https://www.cdce.be/wp-content/uploads/2026/01/Les-RDV-mensuels-CDCE-1.png
END:VEVENT
BEGIN:VEVENT
DTSTART;TZID=Europe/Brussels:20260615T110000
DTEND;TZID=Europe/Brussels:20260615T120000
DTSTAMP:20260422T083342
CREATED:20260120T135811Z
LAST-MODIFIED:20260120T135830Z
UID:10000392-1781521200-1781524800@www.cdce.be
SUMMARY:Le rendez-vous des communes engagées pour le commerce équitable – Webinaire « Les bases du commerce équitable »
DESCRIPTION:Et si votre commune prenait la parole ?  \n\n\n\nCette année\, la coordination CDCE ouvrira chaque mois un temps et en espace en ligne pour partager vos expériences\, vos initiatives et vos idées. Chaque rendez-vous traitera d’un sujet général (le site CDCE\, les outils\, le comité de pilotage\, la semaine du commerce équitable…) que nous présenterions rapidement pour ensuite laisser place à vos interventions et vos questions. \n\n\n\n\nODJ du 15 juin : celui-ci peut changer en fonction des actualités/opportunités du moment.\n\n\n\n\nLes bases du commerce équitable (rappel des principes en formation courte)\n\n\n\n\n\nTemps questions-réponses sur la thématique et autres sujets que vous souhaitez aborder\n\n\n\n\n\n\nPour participer c’est ici\n\n\n\n\nQue vous soyez une commune engagée\, en chemin ou partenaire du commerce équitable\, venez échanger\, témoigner et vous inspirer aux côtés d’autres territoires. Ensemble\, nous aimerions faire circuler les bonnes pratiques et donner encore plus de visibilité aux actions locales qui font la différence. \n\n\n\nLe principe : ouverture par la coordination CDCE d’une réunion Teams un lundi par mois entre 11h et 12h.  \n\n\n\nRejoignez-nous et contribuez à faire vivre le commerce équitable dans nos communes !
URL:https://www.cdce.be/event/le-rendez-vous-des-communes-engagees-pour-le-commerce-equitable-webinaire-les-fondamentaux-dun-comite-de-pilotage-2/
ATTACH;FMTTYPE=image/png:https://www.cdce.be/wp-content/uploads/2026/01/Les-RDV-mensuels-CDCE-1.png
END:VEVENT
BEGIN:VEVENT
DTSTART;TZID=Europe/Brussels:20261009T000000
DTEND;TZID=Europe/Brussels:20261011T235959
DTSTAMP:20260422T083342
CREATED:20260304T103052Z
LAST-MODIFIED:20260304T103929Z
UID:10000401-1791504000-1791763199@www.cdce.be
SUMMARY:La 19ème conférence internationale des Fair Trade Towns en Belgique !
DESCRIPTION:Nous sommes ravis de vous inviter à la 19e Conférence internationale des villes du commerce équitable\, qui se tiendra en Belgique du 9 au 11 octobre prochain.Suite à la candidature retenue de Faire Gemeente Flanders et Communes du Commerce Équitable Wallonie & Bruxelles\, en collaboration avec leurs partenaires\, auprès de Fair Trade Towns International\, nous sommes heureux de travailler en partenariat pour accueillir « De l’action locale à la révolution mondiale ». \n\n\n\n\n\nProgramme de la conférence\n\n\n\nLe programme couvrira des thèmes tels que les réglementations mondiales et européennes et leur lien avec les marchés publics. Il comprendra également des visites de villes belges engagées dans le commerce équitable\, ainsi que des sessions et des ateliers consacrés au débat et à l’échange. \n\n\n\nLe programme détaillé est encore en cours d’élaboration. Cependant\, le cadre général est déjà défini :Vendredi 09 octobre                                                                                                                     Focus sur les institutions européennes\, les politiques et les marchés publics. La journée se terminera par l’ouverture officielle de la conférence.Samedi 10 octobreLes participants pourront choisir entre une visite de la ville du commerce équitable de Namur (Wallonie\, sud de la Belgique)\, Bruxelles (capitale de la Belgique) ou Gand (Flandre\, nord de la Belgique). Chaque ville présentera les bonnes pratiques issues de ses initiatives locales.Dimanche 11 octobreLa journée sera entièrement consacrée aux échanges\, à l’inspiration et au débat. Des intervenants internationaux et belges exploreront l’importance de l’activisme au sein du mouvement du commerce équitable\, donneront un aperçu de l’impact du commerce équitable sur les communautés et souligneront la nécessité d’une action locale.Diverses sessions pratiques\, ateliers et activités seront également organisés\, axés sur l’activisme\, le renouveau du mouvement du commerce équitable\, la politique d’achat\, la communication et les événements\, la décolonisation et l’impact du commerce équitable. \n\n\n\n✨ La conférence se terminera par l’annonce de l’hôte de la 20e édition ✨ \n\n\n\n\n\nVoyage et hébergement\n\n\n\nLa conférence se déroulera principalement à Bruxelles\, la capitale de la Belgique. Les visites du samedi partiront de cette ville. Bruxelles est facilement accessible depuis le monde entier\, car elle est considérée comme le cœur de l’Europe. \n\n\n\nIl existe de nombreuses possibilités d’hébergement\, allant des auberges de jeunesse aux hôtels de luxe en passant par Airbnb. Nous vous recommandons de réserver un hébergement dans ou à proximité du centre-ville\, afin de pouvoir vous rendre facilement aux lieux de la conférence en transports en commun.
URL:https://www.cdce.be/event/la-19eme-conference-internationale-des-fair-trade-towns-en-belgique/
ATTACH;FMTTYPE=image/jpeg:https://www.cdce.be/wp-content/uploads/2026/03/588885350_1167385765523709_1131564296258220480_n.jpg
END:VEVENT
END:VCALENDAR